BEGIN:VCALENDAR
VERSION:2.0
PRODID:-//ChamberMaster//Event Calendar 2.0//EN
METHOD:PUBLISH
X-PUBLISHED-TTL:P1H
REFRESH-INTERVAL:P1H
CALSCALE:GREGORIAN
BEGIN:VTIMEZONE
TZID:America/New_York
BEGIN:DAYLIGHT
RRULE:FREQ=YEARLY;BYMONTH=3;BYDAY=2SU
DTSTART:20070101T000000
TZOFFSETFROM:-0500
TZOFFSETTO:-0400
TZNAME:Eastern Daylight Time
END:DAYLIGHT
BEGIN:STANDARD
RRULE:FREQ=YEARLY;BYMONTH=11;BYDAY=1SU
DTSTART:20070101T000000
TZOFFSETFROM:-0400
TZOFFSETTO:-0500
TZNAME:Eastern Standard Time
END:STANDARD
END:VTIMEZONE
BEGIN:VEVENT
DTSTART;TZID=America/New_York:20251209T083000
DTEND;TZID=America/New_York:20251209T091500
X-MICROSOFT-CDO-ALLDAYEVENT:FALSE
SUMMARY:Leadership Fort Lauderdale Class 32 - Health Care & Human Services
DESCRIPTION:Meet at the Chamber at 8:30am - 9:15am
X-ALT-DESC;FMTTYPE=text/html:Meet at the Chamber at 8:30am - 9:15am
LOCATION:512 NE 3rd Ave Fort Lauderdale FL 33301
UID:e.3785.1337840
SEQUENCE:3
DTSTAMP:20260424T095629Z
URL:https://business.ftlchamber.com/eventcalendar/Details/leadership-fort-lauderdale-class-32-health-care-human-services-1570361?sourceTypeId=Hub
END:VEVENT
END:VCALENDAR
