BEGIN:VCALENDAR
VERSION:2.0
PRODID:-//ChamberMaster//Event Calendar 2.0//EN
METHOD:PUBLISH
X-PUBLISHED-TTL:P1H
REFRESH-INTERVAL:P1H
CALSCALE:GREGORIAN
BEGIN:VTIMEZONE
TZID:America/New_York
BEGIN:DAYLIGHT
RRULE:FREQ=YEARLY;BYMONTH=3;BYDAY=2SU
DTSTART:20070101T000000
TZOFFSETFROM:-0500
TZOFFSETTO:-0400
TZNAME:Eastern Daylight Time
END:DAYLIGHT
BEGIN:STANDARD
RRULE:FREQ=YEARLY;BYMONTH=11;BYDAY=1SU
DTSTART:20070101T000000
TZOFFSETFROM:-0400
TZOFFSETTO:-0500
TZNAME:Eastern Standard Time
END:STANDARD
END:VTIMEZONE
BEGIN:VEVENT
DTSTART;TZID=America/New_York:20260615T120052
DTEND;TZID=America/New_York:20260615T130052
X-MICROSOFT-CDO-ALLDAYEVENT:FALSE
SUMMARY:Greater West Broward Council Meeting
DESCRIPTION:Focusing on business growth in West Broward\, this council connects leaders and expands access to new markets through networking and events.\n\nFor more information\, contact Victoria Romero\, Chair\, Ferguson at tory.romero@ferguson.com.\nThis council meets every 3rd Monday at 12:00 PM.
X-ALT-DESC;FMTTYPE=text/html:Focusing on business growth in West Broward\, this council connects leaders and expands access to new markets through networking and events.\n\nFor more information\, contact Victoria Romero\, Chair\, Ferguson at tory.romero@ferguson.com.\nThis council meets every 3rd Monday at 12:00 PM.
LOCATION:10360 West State Road 84 Fort Lauderdale FL 33324
UID:e.3785.1448466
SEQUENCE:3
DTSTAMP:20260423T204857Z
URL:https://business.ftlchamber.com/eventcalendar/Details/greater-west-broward-council-meeting-1715465?sourceTypeId=Hub
END:VEVENT
END:VCALENDAR
