BEGIN:VCALENDAR
VERSION:2.0
PRODID:-//ChamberMaster//Event Calendar 2.0//EN
METHOD:PUBLISH
X-PUBLISHED-TTL:P1H
REFRESH-INTERVAL:P1H
CALSCALE:GREGORIAN
BEGIN:VTIMEZONE
TZID:America/New_York
BEGIN:DAYLIGHT
RRULE:FREQ=YEARLY;BYMONTH=3;BYDAY=2SU
DTSTART:20070101T000000
TZOFFSETFROM:-0500
TZOFFSETTO:-0400
TZNAME:Eastern Daylight Time
END:DAYLIGHT
BEGIN:STANDARD
RRULE:FREQ=YEARLY;BYMONTH=11;BYDAY=1SU
DTSTART:20070101T000000
TZOFFSETFROM:-0400
TZOFFSETTO:-0500
TZNAME:Eastern Standard Time
END:STANDARD
END:VTIMEZONE
BEGIN:VEVENT
DTSTART;TZID=America/New_York:20260415T093000
DTEND;TZID=America/New_York:20260415T103000
X-MICROSOFT-CDO-ALLDAYEVENT:FALSE
SUMMARY:Rising Leaders Meeting
DESCRIPTION:This council supports young professionals (ages 21 40) through networking\, professional development\, and community involvement.For more information\, contact Ariella Ciuraru\, Marsh McLennan Agency\, ariella.ciuraru@marshmma.com.This council meets every 2nd Wednesday at 9:30 PM.
X-ALT-DESC;FMTTYPE=text/html:<!DOCTYPE html><html><head><title></title></head><body aria-disabled="false"><p style="box-sizing: border-box\; margin: 0px 0px 10px\; color: rgb(51\, 51\, 51)\; font-family: Poppins\, sans-serif\; font-size: 16px\; font-style: normal\; font-variant-ligatures: normal\; font-variant-caps: normal\; font-weight: 400\; letter-spacing: normal\; orphans: 2\; text-align: start\; text-indent: 0px\; text-transform: none\; widows: 2\; word-spacing: 0px\; -webkit-text-stroke-width: 0px\; white-space: normal\; background-color: rgb(238\, 238\, 238)\; text-decoration-thickness: initial\; text-decoration-style: initial\; text-decoration-color: initial\;">This council supports young professionals (ages 21&ndash\;40) through networking\, professional development\, and community involvement.</p><p style="box-sizing: border-box\; margin: 0px 0px 10px\; color: rgb(51\, 51\, 51)\; font-family: Poppins\, sans-serif\; font-size: 16px\; font-style: normal\; font-variant-ligatures: normal\; font-variant-caps: normal\; font-weight: 400\; letter-spacing: normal\; orphans: 2\; text-align: start\; text-indent: 0px\; text-transform: none\; widows: 2\; word-spacing: 0px\; -webkit-text-stroke-width: 0px\; white-space: normal\; background-color: rgb(238\, 238\, 238)\; text-decoration-thickness: initial\; text-decoration-style: initial\; text-decoration-color: initial\;">For more information\, contact&nbsp\;<b style="box-sizing: border-box\; font-weight: 700\;">Ariella Ciuraru\, Marsh McLennan Agency\,&nbsp\;<a fr-original-style="box-sizing: border-box\; background-color: transparent\; color: rgb(237\, 74\, 62)\; text-decoration: none\;" href="mailto:ariella.ciuraru@marshmma.com" style="box-sizing: border-box\; background-color: transparent\; color: rgb(237\, 74\, 62)\; text-decoration: none\; user-select: auto\;">ariella.ciuraru@marshmma.com</a>.</b></p><p style="box-sizing: border-box\; margin: 0px 0px 10px\; color: rgb(51\, 51\, 51)\; font-family: Poppins\, sans-serif\; font-size: 16px\; font-style: normal\; font-variant-ligatures: normal\; font-variant-caps: normal\; font-weight: 400\; letter-spacing: normal\; orphans: 2\; text-align: start\; text-indent: 0px\; text-transform: none\; widows: 2\; word-spacing: 0px\; -webkit-text-stroke-width: 0px\; white-space: normal\; background-color: rgb(238\, 238\, 238)\; text-decoration-thickness: initial\; text-decoration-style: initial\; text-decoration-color: initial\;">This council meets every 2nd Wednesday at 9:30 PM.</p></body></html>
LOCATION:2101 North Andrews Avenue Ft. Lauderdale FL 33311
UID:e.3785.1423951
SEQUENCE:3
DTSTAMP:20260423T194147Z
URL:https://business.ftlchamber.com/eventcalendar/Details/rising-leaders-meeting-1683624?sourceTypeId=Hub
END:VEVENT
END:VCALENDAR
